BEGIN:VCALENDAR
VERSION:2.0
PRODID:-//Llenguaferits - ECPv6.1.3//NONSGML v1.0//EN
CALSCALE:GREGORIAN
METHOD:PUBLISH
X-ORIGINAL-URL:http://www.llenguaferits.cat
X-WR-CALDESC:Esdeveniments per Llenguaferits
REFRESH-INTERVAL;VALUE=DURATION:PT1H
X-Robots-Tag:noindex
X-PUBLISHED-TTL:PT1H
BEGIN:VTIMEZONE
TZID:Europe/Brussels
BEGIN:DAYLIGHT
TZOFFSETFROM:+0100
TZOFFSETTO:+0200
TZNAME:CEST
DTSTART:20240331T010000
END:DAYLIGHT
BEGIN:STANDARD
TZOFFSETFROM:+0200
TZOFFSETTO:+0100
TZNAME:CET
DTSTART:20241027T010000
END:STANDARD
END:VTIMEZONE
BEGIN:VEVENT
DTSTART;TZID=Europe/Brussels:20241002T170000
DTEND;TZID=Europe/Brussels:20241002T190000
DTSTAMP:20260423T174136
CREATED:20240607T161606Z
LAST-MODIFIED:20240607T161709Z
UID:1153-1727888400-1727895600@www.llenguaferits.cat
SUMMARY:El català a les aules
DESCRIPTION:Activitat
URL:http://www.llenguaferits.cat/event/el-catala-a-les-aules-13/
LOCATION:Pla Educatiu d’Entorn\, Sant Cugat del Vallès
CATEGORIES:Activitat
END:VEVENT
END:VCALENDAR