BEGIN:VCALENDAR
VERSION:2.0
PRODID:-//Llenguaferits - ECPv6.1.3//NONSGML v1.0//EN
CALSCALE:GREGORIAN
METHOD:PUBLISH
X-WR-CALNAME:Llenguaferits
X-ORIGINAL-URL:http://www.llenguaferits.cat
X-WR-CALDESC:Esdeveniments per Llenguaferits
REFRESH-INTERVAL;VALUE=DURATION:PT1H
X-Robots-Tag:noindex
X-PUBLISHED-TTL:PT1H
BEGIN:VTIMEZONE
TZID:Europe/Brussels
BEGIN:DAYLIGHT
TZOFFSETFROM:+0100
TZOFFSETTO:+0200
TZNAME:CEST
DTSTART:20260329T010000
END:DAYLIGHT
BEGIN:STANDARD
TZOFFSETFROM:+0200
TZOFFSETTO:+0100
TZNAME:CET
DTSTART:20261025T010000
END:STANDARD
END:VTIMEZONE
BEGIN:VEVENT
DTSTART;TZID=Europe/Brussels:20260416T000000
DTEND;TZID=Europe/Brussels:20260416T235959
DTSTAMP:20260420T231332
CREATED:20251211T150436Z
LAST-MODIFIED:20251211T150436Z
UID:2328-1776297600-1776383999@www.llenguaferits.cat
SUMMARY:El món dels petits llenguaferits
DESCRIPTION:Activitats per a alumnes d’I4
URL:http://www.llenguaferits.cat/event/el-mon-dels-petits-llenguaferits-75/
LOCATION:Escola de Can Llong\, Sabadell
CATEGORIES:Activitat
END:VEVENT
BEGIN:VEVENT
DTSTART;TZID=Europe/Brussels:20260416T173000
DTEND;TZID=Europe/Brussels:20260416T183000
DTSTAMP:20260420T231332
CREATED:20260205T101810Z
LAST-MODIFIED:20260205T101810Z
UID:2430-1776360600-1776364200@www.llenguaferits.cat
SUMMARY:L'aventura de les llengües
DESCRIPTION:
URL:http://www.llenguaferits.cat/event/laventura-de-les-llengues-20/
LOCATION:Aula d’Extensió Universitària de la Noguera\, Cubells
CATEGORIES:Activitat
END:VEVENT
END:VCALENDAR